BEGIN:VCALENDAR
VERSION:2.0
PRODID:-//Bougetz Cellars - ECPv6.15.20//NONSGML v1.0//EN
CALSCALE:GREGORIAN
METHOD:PUBLISH
X-WR-CALNAME:Bougetz Cellars
X-ORIGINAL-URL:https://bougetzcellars.com
X-WR-CALDESC:Events for Bougetz Cellars
REFRESH-INTERVAL;VALUE=DURATION:PT1H
X-Robots-Tag:noindex
X-PUBLISHED-TTL:PT1H
BEGIN:VTIMEZONE
TZID:America/Los_Angeles
BEGIN:DAYLIGHT
TZOFFSETFROM:-0800
TZOFFSETTO:-0700
TZNAME:PDT
DTSTART:20240310T100000
END:DAYLIGHT
BEGIN:STANDARD
TZOFFSETFROM:-0700
TZOFFSETTO:-0800
TZNAME:PST
DTSTART:20241103T090000
END:STANDARD
BEGIN:DAYLIGHT
TZOFFSETFROM:-0800
TZOFFSETTO:-0700
TZNAME:PDT
DTSTART:20250309T100000
END:DAYLIGHT
BEGIN:STANDARD
TZOFFSETFROM:-0700
TZOFFSETTO:-0800
TZNAME:PST
DTSTART:20251102T090000
END:STANDARD
BEGIN:DAYLIGHT
TZOFFSETFROM:-0800
TZOFFSETTO:-0700
TZNAME:PDT
DTSTART:20260308T100000
END:DAYLIGHT
BEGIN:STANDARD
TZOFFSETFROM:-0700
TZOFFSETTO:-0800
TZNAME:PST
DTSTART:20261101T090000
END:STANDARD
END:VTIMEZONE
BEGIN:VEVENT
DTSTART;TZID=America/Los_Angeles:20250329T160000
DTEND;TZID=America/Los_Angeles:20250329T180000
DTSTAMP:20260421T072619
CREATED:20250730T011453Z
LAST-MODIFIED:20250730T011625Z
UID:3288-1743264000-1743271200@bougetzcellars.com
SUMMARY:Lake Havasu City Private Tasting
DESCRIPTION:We are excited to be hosting our Napa winemaker friends Thomas and Joan Bougetz at our home for a PRIVATE WINE TASTING on Saturday\, March 29th\, from 4-6 pm. We hope you can attend and meet Thomas and Joan and taste the current release wines from Bougetz Cellars. We will have tasty treats to pair along with the wines and there will be great pricing on wines for this event. Please respond to this eVite if you can make it\, or text/call Mike. The afternoon of the event\, please enter through the main guard gate. \nOLYMPUS DIGITAL CAMERA
URL:https://bougetzcellars.com/events/lake-havasu-city-private-tasting/
ATTACH;FMTTYPE=image/jpeg:https://bougetzcellars.com/wp-content/uploads/2025/07/All-Bottles-scaled.jpg
END:VEVENT
END:VCALENDAR