BEGIN:VCALENDAR
VERSION:2.0
PRODID:-//Bougetz Cellars - ECPv6.15.20//NONSGML v1.0//EN
CALSCALE:GREGORIAN
METHOD:PUBLISH
X-ORIGINAL-URL:https://bougetzcellars.com
X-WR-CALDESC:Events for Bougetz Cellars
REFRESH-INTERVAL;VALUE=DURATION:PT1H
X-Robots-Tag:noindex
X-PUBLISHED-TTL:PT1H
BEGIN:VTIMEZONE
TZID:America/Los_Angeles
BEGIN:DAYLIGHT
TZOFFSETFROM:-0800
TZOFFSETTO:-0700
TZNAME:PDT
DTSTART:20240310T100000
END:DAYLIGHT
BEGIN:STANDARD
TZOFFSETFROM:-0700
TZOFFSETTO:-0800
TZNAME:PST
DTSTART:20241103T090000
END:STANDARD
BEGIN:DAYLIGHT
TZOFFSETFROM:-0800
TZOFFSETTO:-0700
TZNAME:PDT
DTSTART:20250309T100000
END:DAYLIGHT
BEGIN:STANDARD
TZOFFSETFROM:-0700
TZOFFSETTO:-0800
TZNAME:PST
DTSTART:20251102T090000
END:STANDARD
BEGIN:DAYLIGHT
TZOFFSETFROM:-0800
TZOFFSETTO:-0700
TZNAME:PDT
DTSTART:20260308T100000
END:DAYLIGHT
BEGIN:STANDARD
TZOFFSETFROM:-0700
TZOFFSETTO:-0800
TZNAME:PST
DTSTART:20261101T090000
END:STANDARD
END:VTIMEZONE
BEGIN:VEVENT
DTSTART;TZID=America/Los_Angeles:20250426T120000
DTEND;TZID=America/Los_Angeles:20250426T160000
DTSTAMP:20260421T055205
CREATED:20250730T012830Z
LAST-MODIFIED:20250730T012830Z
UID:3295-1745668800-1745683200@bougetzcellars.com
SUMMARY:Spring 2025 Wine Club event - At our new location!
DESCRIPTION:We are so excited to share with all our wine club members\, our new location on the Silverado Trail. This will be the first event we host here. Besides getting a first look at the new releases\, there will be music\, by our own Jeffrey Fetters\, as well as food and bocce. Come check out our new digs!
URL:https://bougetzcellars.com/events/spring-2025-wine-club-event-at-our-new-location/
ATTACH;FMTTYPE=image/jpeg:https://bougetzcellars.com/wp-content/uploads/2025/05/IMG_1819.jpg
END:VEVENT
END:VCALENDAR